BEGIN:VCALENDAR
VERSION:2.0
PRODID:-//hacksw/handcal//NONSGML v1.0//EN
BEGIN:VEVENT
SUMMARY:Forum du handicap
UID:47d61f92-15db-4ab1-aef3-3a1205fef706
DTSTART:20260919T073000Z
DTEND:20260919T160000Z
LOCATION:Localisation Halle aux Toiles, 19 place de la vieille tour 76100 Rouen
CATEGORIES:Manifestation
STATUS:
DESCRIPTION:<p>Nosu somems heureux et fiers de vosu annoncer que nous
 serons pour la premiere fois presents au forum du handicap a Rouen,
 le 19 septembre 2026</p>
 
 <p>Cet evenement vise a rassembler les
 acteurs engages du territoire afin de :</p>
 
 <p>✔️ favoriser
 l’inclusion</p>
 
 <p>✔️ valoriser les dispositifs
 existants</p>
 
 <p>✔️ faciliter les rencontres entre
 professionnels, familles et personnes concernees</p>
 
 <p>✔️ creer
 du lien entre les acteurs du handicap</p>
 
 <p> </p>
 
 <p>Nous aurons
 un stand et proposerons des ateliers</p>
 
 <p> </p>
 
 <p>Plus d'infos
 tres bientot !</p>
URL;VALUE=URI:https://www.sospac.fr/evenements/2026/09/19/forum-du-handicap-2434147
END:VEVENT
END:VCALENDAR
