BEGIN:VCALENDAR
VERSION:2.0
PRODID:-//hacksw/handcal//NONSGML v1.0//EN
BEGIN:VEVENT
SUMMARY:Epreuves de perche et epreuves ouvertes cadets a masters
UID:bbdd76a0-91eb-4c94-9dab-436beaf8d043
DTSTART:20260519T220000Z
DTEND:20260520T220000Z
LOCATION:Localisation 1 rue du docteur Fleury  Mont-Saint-Aignan
CATEGORIES:Sportif
STATUS:
DESCRIPTION:<p>Meeting ouvert a toutes les categories des cadets et
 jusqu'aux masters</p>
 
 <p> </p>
 
 <p>Horaires et epreuves a venir</p>
URL;VALUE=URI:https://www.sospac.fr/evenements/2026/05/20/epreuves-de-perche-et-epreuves-ouvertes-cadets-a-masters-2431131
END:VEVENT
END:VCALENDAR
