BEGIN:VCALENDAR
VERSION:2.0
PRODID:-//hacksw/handcal//NONSGML v1.0//EN
BEGIN:VEVENT
SUMMARY:Departementaux epreuves combinees benjamins et minimes et epreuves ouvertes toutes categories
UID:c02224af-d5e2-4050-a4eb-ace8e67f7437
DTSTART:20260410T220000Z
DTEND:20260412T220000Z
LOCATION:Localisation Stade Loseph Guillemot, rue du 19 mars 1962 76360 Barentin
CATEGORIES:Sportif
STATUS:
DESCRIPTION:<p>Journee qui concerne toutes les categories de
 benjamins a masters, avec les epreuves combinees pour les benjamins
 et minimes et des eprevues ouvertes pour les categories
 superieures.</p>
 
 <p>Epreuves et horaires a venir... </p>
URL;VALUE=URI:https://www.sospac.fr/evenements/2026/04/11/departementaux-epreuves-combinees-benjamins-et-minimes-et-epreuves-ouvertes-toutes-categories-2431127
END:VEVENT
END:VCALENDAR
