BEGIN:VCALENDAR
VERSION:2.0
PRODID:-//hacksw/handcal//NONSGML v1.0//EN
BEGIN:VEVENT
SUMMARY:Kids Athle a Barentin
UID:1a4ecfac-2561-4030-8347-da92d820ac1e
DTSTART:20260321T124500Z
DTEND:20260321T163000Z
LOCATION:Localisation 7 rue Richard Queille 76360 Barentin
CATEGORIES:Sportif
STATUS:
DESCRIPTION:<p>Retour des traditionnelles animations/competitions des
 eveils et poussins (06/10ans) avec une etape en gymnase a
 Barentin </p>
 
 <p>Nous vous rappelons que tous les enfants du club
 sont bienvenus qu'importe le niveau et que pour les eveils il n'y a
 pas de classement individuel.</p>
 
 <p>Au programme : </p>
 
 <div
 align="left"><span style="color:rgb(0,0,0);"><span
 style="font-family:verdana, sans-serif;"><span
 class="x_gmail_default" style="font-family:verdana,
 sans-serif;color:rgb(0,0,0);">RDV sur place a 14h00 pour le
 pointage. </span></span></span></div>
 
 <div
 align="left"> </div>
 
 <div align="left">
 <div
 class="x_gmail_default" style="font-family:verdana,
 sans-serif;color:rgb(0,0,0);"><span style="color:rgb(0,0,0);">• Au
 programme : 30m sprint plat & haies, lancer de medecine ball,
 pentabond ...</span></div>
 
 <div class="x_gmail_default"
 style="font-family:verdana,
 sans-serif;color:rgb(0,0,0);"> </div>
 
 <div class="x_gmail_default"
 style="font-family:verdana, sans-serif;color:rgb(0,0,0);"><span
 style="color:rgb(0,0,0);">• Le programme se cloturera par un grand
 relais puis un gouter vers 17h00 /
 17h30. </span></div>
 </div>
 
 <p> </p>
URL;VALUE=URI:https://www.sospac.fr/evenements/2026/03/21/kids-athle-a-barentin-2425342
END:VEVENT
END:VCALENDAR
