BEGIN:VCALENDAR
VERSION:2.0
PRODID:-//hacksw/handcal//NONSGML v1.0//EN
BEGIN:VEVENT
SUMMARY:Regionaux benjamins zone est
UID:47db4950-9829-4c13-939a-df4b422c45f6
DTSTART:20260314T083000Z
DTEND:20260314T160000Z
LOCATION:Localisation Salle Jesse Owens, Parc des Sports, 2 Chaussee de Ritterhude 27100 val de Reuil
CATEGORIES:Sportif
STATUS:
DESCRIPTION:<p>Derniere date importante de la saison en salle pour la
 categorie des benjamins.</p>
 
 <p>Competition sur qualification
 (minima ou classement)</p>
 
 <p>Pour le moment nous avons une
 qualifiee, la benjamine premiere annee Lilas sur le triple
 saut</p>
 
 <p> </p>
 
 <p>Horaires et infos complementaires a venir</p>
URL;VALUE=URI:https://www.sospac.fr/evenements/2026/03/14/regionaux-benjamins-zone-est-2418773
END:VEVENT
END:VCALENDAR
