BEGIN:VCALENDAR
VERSION:2.0
PRODID:-//hacksw/handcal//NONSGML v1.0//EN
BEGIN:VEVENT
SUMMARY:Animation athle pour tous
UID:fdab81a6-6e00-4cb3-b855-f01a3c719b52
DTSTART:20260307T093000Z
DTEND:20260307T110000Z
LOCATION:Sport le vendredi et le samedi Rue Paul Lambard 76140 Le Petit Quevilly
CATEGORIES:Sportif
STATUS:
DESCRIPTION:<div class="xdj266r x14z9mp xat24cr x1lziwak x1vvkbs
 x126k92a">
 <div><span class="x193iq5w xeuugli x13faqbe x1vvkbs
 x1xmvt09 x1lliihq x1s928wv xhkezso x1gmr53x x1cpjm7i x1fgarty
 x1943h6x xudqn12 x3x7a5m x6prxxf xvq8zen xo1l8bm xzsf02u
 x1yc453h">Samedi 07 mars 2026 on se retrouve pour une animation
 gratuite et ouverte a toutes et tous des 06 ans.
 10h30/12h</span></div>
 </div>
 
 <div class="x14z9mp xat24cr x1lziwak
 x1vvkbs xtlvy1s x126k92a">
 <div><span class="x193iq5w xeuugli
 x13faqbe x1vvkbs x1xmvt09 x1lliihq x1s928wv xhkezso x1gmr53x x1cpjm7i
 x1fgarty x1943h6x xudqn12 x3x7a5m x6prxxf xvq8zen xo1l8bm xzsf02u
 x1yc453h">RV stade Gambade a <span class="html-span xdj266r x14z9mp
 xat24cr x1lziwak xexx8yu xyri2b x18d9i69 x1c1uobl x1hl2dhg x16tdsg8
 x1vvkbs"><a class="x1i10hfl xjbqb8w x1ejq31n x18oe1m7 x1sy0etr
 xstzfhl x972fbf x10w94by x1qhh985 x14e42zd x9f619 x1ypdohk xt0psk2
 x3ct3a4 xdj266r x14z9mp xat24cr x1lziwak xexx8yu xyri2b x18d9i69
 x1c1uobl x16tdsg8 x1hl2dhg xggy1nq x1a2a7pz xkrqix3 x1sur9pj x1fey0fg
 x1s688f"
 href="https://www.facebook.com/PetitQuevilly?__cft__%5B0%5D=AZYTuaDAI9h7TWbzlWYQmmR6OBU0E0-btuqufWm1WwyFH4o_3W3NPWW83Yo00PQnvX4U3_3q_eezykRfwtoCuFxXjlfA5JtdQSizeVNGoonLXlwDkUiPxa1ekFgjAl-_8uVu21uk3UhdEFX4eLudK0vuCMDZAcxawol9rWwQtZGn50N0gkIPU6cptD320M9WBX4&__tn__=-%5DK-R"
 target="_blank" rel="noreferrer noopener"><span class="xt0psk2"><span
 class="xjp7ctv"><span>Petit-Quevilly</span></span></span></a></span>
 sur la piste de sprint a 10h30</span></div>
 
 <div><span
 class="x193iq5w xeuugli x13faqbe x1vvkbs x1xmvt09 x1lliihq x1s928wv
 xhkezso x1gmr53x x1cpjm7i x1fgarty x1943h6x xudqn12 x3x7a5m x6prxxf
 xvq8zen xo1l8bm xzsf02u x1yc453h">Echauffement collectif puis
 decouverte des trois ateliers : sprint, saut en longueur et lancer de
 vortex, et a 11h30 collation et remise de medailles pour les
 participants de 06 a 12 ans.</span></div>
 </div>
 
 <div class="x14z9mp
 xat24cr x1lziwak x1vvkbs xtlvy1s x126k92a">
 <div><span
 class="x193iq5w xeuugli x13faqbe x1vvkbs x1xmvt09 x1lliihq x1s928wv
 xhkezso x1gmr53x x1cpjm7i x1fgarty x1943h6x xudqn12 x3x7a5m x6prxxf
 xvq8zen xo1l8bm xzsf02u x1yc453h">Enfants, parents, amis, valides ou
 en situation de handicap, TSA, TDAH etc... avec ou sans licence,
 membre de notre club ou d'un club partenaire des kids athle, ou
 encore simple curieux de decouvrir l'athletisme, TOUT LE MONDE EST
 BIENVENU ET POURRA PARTICIPER
 GRATUITEMENT.</span></div>
 
 <div> </div>
 
 <div>N'hesitez pas a venir
 des 10h pour aider a l'installation</div>
 </div>
URL;VALUE=URI:https://www.sospac.fr/evenements/2026/03/07/animation-athle-pour-tous-2423306
END:VEVENT
END:VCALENDAR
