BEGIN:VCALENDAR
VERSION:2.0
PRODID:-//hacksw/handcal//NONSGML v1.0//EN
BEGIN:VEVENT
SUMMARY:Relais sport feminin 2026
UID:e09cec09-f38e-4462-971f-a16d42c21031
DTSTART:20260301T090000Z
DTEND:20260301T110000Z
LOCATION:Lieu du sport le dimanche 31 avenue du 14 Juillet 76300 Sotteville les Rouen
CATEGORIES:Sportif
STATUS:
DESCRIPTION:<p>Une magnifique matinee pour celebrer le sport feminin
 mais ouverte a tout le monde des 06 ans. </p>
 
 <p>Chaque annee nous
 participons a cet evenement gratuit et tres bien organise par le
 Stade Sottevillais 76 et la ville de Sotteville-les-Rouen.</p>
 
 <p>Le
 principe : des relais de 4 personnes avec le choix de participer en
 course ou marche, un temps global et le classement se fait sur le
 nombre de tours (606m) realises dans ce temps imparti.</p>
 
 <p>Nous
 realiserons l'inscription des equipes aupres de l'organisation.
 Enfants, parents, grands-parents, debutants ou confirmes
 bienvenus.</p>
 
 <p> </p>
 
 <p>Pour plus d'infos vous pouvez nous
 contacter par mail ou tel</p>
 
 <p> </p>
URL;VALUE=URI:https://www.sospac.fr/evenements/2026/03/01/relais-sport-feminin-2026-2418769
END:VEVENT
END:VCALENDAR
