BEGIN:VCALENDAR
VERSION:2.0
PRODID:-//hacksw/handcal//NONSGML v1.0//EN
BEGIN:VEVENT
SUMMARY:Saison hivernal sur routes et chemins de notre runneuse Charlotte
UID:9469c583-76f6-4107-9feb-88a5e6c78518
DTSTART:20260117T230000Z
DTEND:20260315T230000Z
LOCATION:Localisation   
CATEGORIES:Sportif
STATUS:
DESCRIPTION:<p>Vosu retrouvez ici tous les resultats de notre
 runneuse Charlotte, tres presente sur la saison hivernale</p>
URL;VALUE=URI:https://www.sospac.fr/evenements/2026/01/18/saison-hivernal-sur-routes-et-chemins-de-notre-runneuse-charlotte-2431871
END:VEVENT
END:VCALENDAR
