BEGIN:VCALENDAR
VERSION:2.0
PRODID:-//hacksw/handcal//NONSGML v1.0//EN
BEGIN:VEVENT
SUMMARY:Championnats individuels de Seine-Maritime benjamins /minimes
UID:c9f12afa-44a4-4db8-a8f2-ceef78572bda
DTSTART:20251221T080000Z
DTEND:20251221T180000Z
LOCATION:Localisation Salle Jesse Owens, Parc des Sports, 2 Chaussee de Ritterhude 27100 val de Reuil
CATEGORIES:Sportif
STATUS:
DESCRIPTION:<p>Il s'agit des championnats departemantaux individuels
 benjamins et minimes, garcons et filles.</p>
 
 <p>Chacun choisi ses
 epreuves, mais il est conseille de faire au moins un triathlon (saut,
 course et lancer ou deuxieme course)</p>
 
 <p>4 epreuves maximums par
 athlete</p>
URL;VALUE=URI:https://www.sospac.fr/evenements/2025/12/21/championnats-individuels-de-seine-maritime-benjamins-minimes-2347490
END:VEVENT
END:VCALENDAR
