BEGIN:VCALENDAR
VERSION:2.0
PRODID:-//hacksw/handcal//NONSGML v1.0//EN
BEGIN:VEVENT
SUMMARY:Soiree Jesse Owens 4
UID:f4fdf7d4-02b3-42d4-a55a-3c59073b8641
DTSTART:20251219T173000Z
DTEND:20251219T220000Z
LOCATION:Localisation Salle Jesse Owens, Parc des Sports, 2 Chaussee de Ritterhude 27100 val de Reuil
CATEGORIES:Sportif
STATUS:
DESCRIPTION:<p>4eme soiree Jesse Owens de la saison, consacree aux
 sprints longs, a la marche, au demi-fond avec egalement du triple, de
 la hauteur et du poids</p>
 
 <p>Epreuves ouvertes des cadets aux
 masters</p>
URL;VALUE=URI:https://www.sospac.fr/evenements/2025/12/19/soiree-jesse-owens-4-2347486
END:VEVENT
END:VCALENDAR
