BEGIN:VCALENDAR
VERSION:2.0
PRODID:-//hacksw/handcal//NONSGML v1.0//EN
BEGIN:VEVENT
SUMMARY:Championnats de Seine-Maritime d'epreuves combinees minimes et epreuves ouvertes benjamins
UID:8b7638fd-cf1f-4da6-b2f2-cfdbc02dd464
DTSTART:20251214T080000Z
DTEND:20251214T170000Z
LOCATION:Localisation Salle Jesse Owens, Parc des Sports, 2 Chaussee de Ritterhude 27100 val de Reuil
CATEGORIES:Sportif
STATUS:
DESCRIPTION:<p>Il s'agit pour les minimes des championnats d'epreuves
 combinees avec l'obligation de participer aux 5 epreuves
 :</p>
 
 <p>minimes filles: Hauteur, poids, 50m haies, longueur et
 1000m</p>
 
 <p>minimes garcons : Longueur ou perche, hauteur, poids,
 50m haies et 1000m</p>
 
 <p> </p>
 
 <p>Pour les benjamin(e)s, ce sont
 des epreuves ouvertes avec le choix :</p>
 
 <p>50m plat, marche,
 perche, poids, longueur, triple et
 hauteur</p>
 
 <p> </p>
 
 <p> </p>
 
 <p>MAJ apres competition : en
 raison de blessures et de maladies nous n'etions pas presents a cette
 competition. </p>
URL;VALUE=URI:https://www.sospac.fr/evenements/2025/12/14/championnats-de-seine-maritime-depreuves-combinees-minimes-et-epreuves-ouvertes-benjamins-2347481
END:VEVENT
END:VCALENDAR
