BEGIN:VCALENDAR
VERSION:2.0
PRODID:-//hacksw/handcal//NONSGML v1.0//EN
BEGIN:VEVENT
SUMMARY:Anim'Cross eveils et poussins
UID:3e5415be-8fc1-45e5-9575-3500986b6663
DTSTART:20251213T120000Z
DTEND:20251213T150000Z
LOCATION:Localisation Stade Marcel Lemire, Petite Bouverie, Allee Pierre de Coubertin 76100 Rouen
CATEGORIES:Sportif
STATUS:
DESCRIPTION:<p>Le premier cross specifique au Kid's Athle de nos
 poussins et eveils. </p>
 
 <p>Plus qu'une competition, il s'agit
 surtout d'un premier moment specifique aux enfants, dans la bonne
 humeur, avec un cross entrecoupe de petites epreuves sportives sur le
 parcours.</p>
 
 <p>Nous comptons sur vous pour venir nombreux et
 soutenir les enfants. </p>
 
 <p>Les kid's athle et kid's cross se
 deroulent avec les clubs partenaires de l'ASPTT Rouen, du CAQC76, du
 RCCA, de Oissel et de Montigny.</p>
 
 <p> </p>
 
 <p>Infos epreuves
 : </p>
 
 <p>Debut des epreuves 14h00</p>
 
 <p>Penser a prendre des
 chaussures salisables et qui ne glissent pas trop, le maillot club et
 des epingles a nourrice pour le dossard</p>
 
 <div
 class="x_gmail_default" style="font-family:verdana,
 sans-serif;color:rgb(0,0,0);">• Cross EA & PO differents a faire en
 relais de 2 (les clubs peuvent etre mixes). </div>
 
 <div
 class="x_gmail_default" style="font-family:verdana,
 sans-serif;color:rgb(0,0,0);">Le cross sera agremente de petites
 epreuves/jeux : Memory et lancer de precisison de vortex.</div>
URL;VALUE=URI:https://www.sospac.fr/evenements/2025/12/13/animcross-eveils-et-poussins-2334273
END:VEVENT
END:VCALENDAR
