BEGIN:VCALENDAR
VERSION:2.0
PRODID:-//hacksw/handcal//NONSGML v1.0//EN
BEGIN:VEVENT
SUMMARY:Cross du Rouvray
UID:61bc1ce7-2dc9-475d-b7d1-4135cf3d7372
DTSTART:20251207T080000Z
DTEND:20251207T110000Z
LOCATION:Localisation Gymnase Paul Eluard 76800 Saint-Etienne-du-Rouvray
CATEGORIES:Sportif
STATUS:
DESCRIPTION:<p>Cross organise par le Running Club Stephanais et
 faisant parti d'un challenge annuel</p>
URL;VALUE=URI:https://www.sospac.fr/evenements/2025/12/07/cross-du-rouvray-2371485
END:VEVENT
END:VCALENDAR
