BEGIN:VCALENDAR
VERSION:2.0
PRODID:-//hacksw/handcal//NONSGML v1.0//EN
BEGIN:VEVENT
SUMMARY:Championnats de Seine-Maritime d'epreuves combinees benjamins & epreuves ouvertes minimes
UID:6e53c3af-7b52-4392-ab10-17cc6965d310
DTSTART:20251130T080000Z
DTEND:20251130T160000Z
LOCATION:Localisation Salle Jesse Owens, Parc des Sports, 2 Chaussee de Ritterhude 27100 val de Reuil
CATEGORIES:Sportif
STATUS:
DESCRIPTION:<p>Il s'agit pour les benjamins des championnats
 d'epreuves combinees avec l'obligation de participer aux 4 epreuves
 :</p>
 
 <p>Benjamines : Hauteur, poids, 50m haies,
 1000m</p>
 
 <p>Benjamins : Longueur ou perche, poids, 50m haies et
 1000m</p>
 
 <p> </p>
 
 <p>Pour les minimes, ce sont des epreuves
 ouvertes avec le choix :</p>
 
 <p>50m plat, marche, perche, poids,
 triple et hauteur</p>
URL;VALUE=URI:https://www.sospac.fr/evenements/2025/11/30/championnats-de-seine-maritime-depreuves-combinees-benjamins-epreuves-ouvertes-minimes-2347455
END:VEVENT
END:VCALENDAR
