BEGIN:VCALENDAR
VERSION:2.0
PRODID:-//hacksw/handcal//NONSGML v1.0//EN
BEGIN:VEVENT
SUMMARY:Temps d'echanges autour des TSA, une fois par mois
UID:0a60d5f5-211d-4d71-8bb1-3eb43762e254
DTSTART:20251125T174500Z
DTEND:20251125T191500Z
LOCATION:Lieu du mardi pour les arts, la culture et les temps d'echanges 197 Rue President Kennedy 76140 Le Petit-Quevilly
CATEGORIES:Caritatif
STATUS:
DESCRIPTION:<p>L'un de nos temps forts reguliers et ouvert a toutes
 et tous, y compris si vous n'etes pas adherent a
 So'SpAC.</p>
 
 <p>Retrouvez notre intervenante specialisee Sylvie pour
 un moment de partage et d'ecoute autour des TSA (troubles du spectre
 autistique)</p>
 
 <p>C'est un moment gratuit et convivial qui aura
 lieu une fois par mois a la Maison de l'Enfance Jules Vernes a
 Petit-Quevilly</p>
 
 <p>Si vous avez des questions, n'hesitez pas a
 nous contacter via le site ou par mail :
 sospac@outlook.fr</p>
 
 <p> </p>
 
 <p>Voici toutes les dates de
 l'annee : </p>
 
 <p style="margin-bottom:0cm;"><font face="Arial,
 sans-serif">- 30 septembre 2025 </font></p>
 
 <p
 style="margin-bottom:0cm;"><font face="Arial, sans-serif">- 14
 octobre 2025</font></p>
 
 <p style="margin-bottom:0cm;"><font
 face="Arial, sans-serif">- 25 novembre 2025 </font></p>
 
 <p
 style="margin-bottom:0cm;"><font face="Arial, sans-serif">- 16
 decembre 2025 </font></p>
 
 <p style="margin-bottom:0cm;"><font
 face="Arial, sans-serif">- 27 janvier 2026 </font></p>
 
 <p
 style="margin-bottom:0cm;"><font face="Arial, sans-serif">- 10
 fevrier 2026</font></p>
 
 <p style="margin-bottom:0cm;"><font
 face="Arial, sans-serif">- 31 mars 2026 </font></p>
 
 <p
 style="margin-bottom:0cm;"><font face="Arial, sans-serif">- 28 avril
 2026</font></p>
 
 <p style="margin-bottom:0cm;"><font face="Arial,
 sans-serif">- 26 mai 2026 </font></p>
 
 <p
 style="margin-bottom:0cm;"><font face="Arial, sans-serif">- 30 juin
 2026</font></p>
 
URL;VALUE=URI:https://www.sospac.fr/evenements/2025/11/25/temps-dechanges-autour-des-tsa-une-fois-par-mois-2278693
END:VEVENT
END:VCALENDAR
