BEGIN:VCALENDAR
VERSION:2.0
PRODID:-//hacksw/handcal//NONSGML v1.0//EN
BEGIN:VEVENT
SUMMARY:Soiree Jesse Owens 2
UID:59e646e5-168e-4bcb-8943-7556f472fcd3
DTSTART:20251121T173000Z
DTEND:20251121T220000Z
LOCATION:Localisation Salle Jesse Owens, Parc des Sports, 2 Chaussee de Ritterhude 27100 val de Reuil
CATEGORIES:Sportif
STATUS:
DESCRIPTION:<p>Epreuves ouvertes a partir de la categorie "cadet(e)"
 jusqu'a Masters</p>
 
URL;VALUE=URI:https://www.sospac.fr/evenements/2025/11/21/soiree-jesse-owens-2-2347443
END:VEVENT
END:VCALENDAR
