BEGIN:VCALENDAR
VERSION:2.0
PRODID:-//hacksw/handcal//NONSGML v1.0//EN
BEGIN:VEVENT
SUMMARY:Ut3pr 2025 1ere edition officielle
UID:6124df22-3765-4a14-8842-7d33bb5fc0aa
DTSTART:20251102T070000Z
DTEND:20251102T140000Z
LOCATION:Localisation   
CATEGORIES:Sportif
STATUS:
DESCRIPTION:<p>Un trail original sans parcours balise ou les
 concurents s'orientes avec leur GPS, et passent par les plus beaux
 panoramas de l'agglomeration rouennaise. </p>
 
URL;VALUE=URI:https://www.sospac.fr/evenements/2025/11/02/ut3pr-2025-1ere-edition-officielle-2349404
END:VEVENT
END:VCALENDAR
