BEGIN:VCALENDAR
VERSION:2.0
PRODID:-//hacksw/handcal//NONSGML v1.0//EN
BEGIN:VEVENT
SUMMARY:Soiree des benevoles
UID:59dbd882-f327-4234-be87-c95a4e4a9b9a
DTSTART:20251023T160000Z
DTEND:20251023T180000Z
LOCATION:Localisation Maison des associations, 465 rue de Paris 76300 Sotteville les Rouen
CATEGORIES:Festif
STATUS:
DESCRIPTION:<p>Bonjour a toutes et a tous,</p>
 
 <p><br />
 Suite a
 votre rencontre lors des portes ouvertes ou avec l’un de nos
 intervenants, ou parce que vous etes parent d'un enfant adherent,
 vous avez exprime l’envie de partager un peu de votre temps et de
 votre energie avec notre association et nous en sommes ravis !
 ?</p>
 
 <p>C’est pourquoi nous avons le plaisir de vous inviter a
 notre soiree des benevoles So’SPAC, qui se tiendra :</p>
 
 <p
 style="text-align:center;"><br />
 <strong>Jeudi 23 octobre 2025 de
 18h a 20h a la Maison des Associations de
 Sotteville-les-Rouen</strong></p>
 
 <p
 style="text-align:center;"> </p>
 
 <p>Cette rencontre sera
 l’occasion de :</p>
 
 <ul>
 	<li>faire connaissance dans une ambiance
 conviviale,</li>
 	<li>remercier les benevoles deja
 engages,</li>
 	<li>decouvrir les intervenants et les projets a
 venir,</li>
 	<li>echanger sur les idees, disponibilites et envies de
 chacun.</li>
 </ul>
 
 <p>Autour d’un petit verre de l’amitie, nous
 partagerons un moment simple et chaleureux pour imaginer ensemble la
 saison 2025-2026 de So’SPAC. </p>
 
 <p>? Merci de <strong>confirmer
 votre presence</strong> par<strong> mail</strong> :
 <strong>sospac@outlook.fr</strong> ou par SMS <strong>au
 06.46.24.20.50</strong>.</p>
 
 <p>Au plaisir de vous retrouver et de
 construire ensemble cette belle aventure humaine et
 artistique.</p>
 
 <p>Guillaume, President de l'association
 So'SPAC</p>
 
URL;VALUE=URI:https://www.sospac.fr/evenements/2025/10/23/soiree-des-benevoles-2334284
END:VEVENT
END:VCALENDAR
