BEGIN:VCALENDAR
VERSION:2.0
PRODID:-//hacksw/handcal//NONSGML v1.0//EN
BEGIN:VEVENT
SUMMARY:10 km et semi-marathon de Bois-Guillaume
UID:e80e0a92-c4b7-40ec-9ef9-25ba7aa7ec5a
DTSTART:20251019T073000Z
DTEND:20251019T100000Z
LOCATION:Localisation Depart : 9h30 a l’espace Guillaume le Conquerant 76230 Bois-Guillaume
CATEGORIES:Sportif
STATUS:
DESCRIPTION:<p style="text-align:left;"><strong>Le 37eme
 Semi-Marathon de Bois-Guillaume se deroulera le dimanche 19 octobre
 2025. Vous pouvez des maintenant vous inscrire a l’une des
 traditionnelles courses du 10km, de la Joelette Cup ou, pour les plus
 aguerris, du Semi-Marathon.</strong></p>
 
 <p
 style="text-align:left;"><strong>L’evenement sera cette annee
 encore en partenariat avec Octobre Rose et vous aurez la
 possibilite</strong><b> de faire un don a la ligue contre le cancer
 lors de votre inscription</b><strong>. Un village partenaire avec de
 quoi se restaurer sur place vous accueillera derriere l’Espace
 Guillaume le Conquerant.</strong></p>
 
 <p
 style="text-align:left;"> </p>
 
 <p
 style="text-align:left;"><strong>Pour So'SpAC, une athlete presente
 sur le 10km : Najat Ouarayni, et un sur le semi-marathon : Mickael
 Saillot</strong></p>
 
URL;VALUE=URI:https://www.sospac.fr/evenements/2025/10/19/10-km-et-semi-marathon-de-bois-guillaume-2338654
END:VEVENT
END:VCALENDAR
