BEGIN:VCALENDAR
VERSION:2.0
PRODID:-//hacksw/handcal//NONSGML v1.0//EN
BEGIN:VEVENT
SUMMARY:Kinder Day joy of moving : matinee festive de decouverte de l'athle pour les enfants
UID:5279b494-522f-4b06-b1ac-e7c7d141d10c
DTSTART:20250920T083000Z
DTEND:20250920T100000Z
LOCATION:Sport le vendredi et le samedi Rue Paul Lambard 76140 Le Petit Quevilly
CATEGORIES:Sportif
STATUS:
DESCRIPTION:<p>Une matinee speciale pour les enfants de 06 a 12 ans,
 qu'ils soient licencies ou non du club. L'occasion de decouvrir
 l'athle, d'inviter des copains et de passer un bon moment autour de
 petits defis sur notre creneau du samedi. </p>
URL;VALUE=URI:https://www.sospac.fr/evenements/2025/09/20/kinder-day-joy-of-moving-matinee-festive-de-decouverte-de-lathle-pour-les-enfants-2301479
END:VEVENT
END:VCALENDAR
