BEGIN:VCALENDAR
VERSION:2.0
PRODID:-//hacksw/handcal//NONSGML v1.0//EN
BEGIN:VEVENT
SUMMARY:Forum sport et loisirs 2025 de Petit-Quevilly
UID:64df318a-a225-45a0-8e52-e50dc9189ab6
DTSTART:20250913T120000Z
DTEND:20250913T160000Z
LOCATION:Localisation Parc des Chartreux, 55 Rue Guillaume Lecointe 76140 Petit-Quevilly
CATEGORIES:Festif
STATUS:
DESCRIPTION:<p>Retrouvez-nous au forum des associations de
 Petit-Quevilly le 13 septembre au parc des Chartreux. Une premiere
 pour nous, et une belle occasion de decouvrir tout ce que nous
 proposons, de nous rejoindre en adherant ou en tant que benevole ou
 simplement d'echanger avec nos membres.</p>
 
URL;VALUE=URI:https://www.sospac.fr/evenements/2025/09/13/forum-sport-et-loisirs-2025-de-petit-quevilly-2278650
END:VEVENT
END:VCALENDAR
