BEGIN:VCALENDAR
VERSION:2.0
PRODID:-//hacksw/handcal//NONSGML v1.0//EN
BEGIN:VEVENT
SUMMARY:Carrefour des associations de Sotteville-les-Rouen
UID:181f8de7-d246-424d-aef1-ba96b66a0477
DTSTART:20250906T080000Z
DTEND:20250906T150000Z
LOCATION:Lieu du sport le dimanche 31 avenue du 14 Juillet 76300 Sotteville les Rouen
CATEGORIES:Festif
STATUS:
DESCRIPTION:<p>Retrouvez-nous au Carrefour des associations de
 Sotteville-les-Rouen ce samedi 06 septembre 2025 de 10h a
 17h. </p>
 
 <p>Vous pourrez decouvrir nos activites, adherer, nous
 rejoindre en tant que benevole ou simplement echanger avec nous,
 alors si vous hesitez encore sur votre future activite ou celle de
 vos enfants, passez nous voir. </p>
 
URL;VALUE=URI:https://www.sospac.fr/evenements/2025/09/06/carrefour-des-associations-de-sotteville-les-rouen-2278446
END:VEVENT
END:VCALENDAR
