BEGIN:VCALENDAR
VERSION:2.0
PRODID:-//hacksw/handcal//NONSGML v1.0//EN
BEGIN:VEVENT
SUMMARY:Vernissage de la vitrine expo de nos adherents
UID:ed3d759c-09f6-4cc7-84c1-4c81899133ff
DTSTART:20250903T160000Z
DTEND:20250903T173000Z
LOCATION:Localisation Atelier aux lunettes, Place de l'Hotel de Ville 76300 Sotteville-les-Rouen
CATEGORIES:Festif
STATUS:
DESCRIPTION:<p>Decouvrez le resultat du travail de nos adherents et
 de notre intervenante Sylvie lors du vernissage de la vitrine expo en
 partenariat avec l'atelier aux lunettes. Des mots plies, un decor
 mettant en valeur a la fois les mots, les livres mais aussi les
 lunettes de la boutique.</p>
 
 <p>L'ocasion egalement de nous
 rencontrer et de passer un bon moment ensemble.</p>
 
 <p> </p>
 
URL;VALUE=URI:https://www.sospac.fr/evenements/2025/09/03/vernissage-de-la-vitrine-expo-de-nos-adherents-2278400
END:VEVENT
END:VCALENDAR
