BEGIN:VCALENDAR
VERSION:2.0
PRODID:-//hacksw/handcal//NONSGML v1.0//EN
BEGIN:VEVENT
SUMMARY:Seine-Marathon 76, Kinder Day, Run 2k : Retour sur le debut de la saison sportive
UID:f5a2f4f2-1899-48ae-a7ac-fdf1d9eb60fc
DTSTART:20250831T220000Z
DTEND:20251005T220000Z
LOCATION:Localisation   
CATEGORIES:Sportif
STATUS:
URL;VALUE=URI:https://www.sospac.fr/evenements/2025/09/01/seine-marathon-76-kinder-day-run-2k-retour-sur-le-debut-de-la-saison-sportive-2330936
END:VEVENT
END:VCALENDAR
