BEGIN:VCALENDAR
VERSION:2.0
PRODID:-//hacksw/handcal//NONSGML v1.0//EN
BEGIN:VEVENT
SUMMARY:Reprise des entrainements 
UID:a2569794-f556-49e4-9027-525092bc4593
DTSTART:20250901T163000Z
DTEND:20250901T180000Z
LOCATION:Lieu de pratique du lundi 129 rue Leon Salva 76300 Sotteville-les-Rouen
CATEGORIES:Sportif
STATUS:
DESCRIPTION:<p>C'est la rentree, enfin... ! </p>
 
 <p>Vous nous avez
 manque, alors quel plaisir de se retrouver ce lundi 01 septembre pour
 le premier entrainement de la saison.</p>
 
 <p>Cette seance sera
 surtout l'occasion de retrouver la forme, de se revoir, de valider
 les inscriptions, et de parler de tout ce que nous
 proposerons. </p>
 
 <p>Pour rappel, les seances du lundi sont
 ouvertes a tout le monde et son axees plus specifiquement sur les
 enfants et athletes debutants.</p>
 
 <p>A lundi !!</p>
 
URL;VALUE=URI:https://www.sospac.fr/evenements/2025/09/01/reprise-des-entrainements-2278486
END:VEVENT
END:VCALENDAR
