BEGIN:VCALENDAR
VERSION:2.0
PRODID:-//hacksw/handcal//NONSGML v1.0//EN
BEGIN:VEVENT
SUMMARY:Marche sportive et culturelle ouverte a tous
UID:d87734ac-ee70-420d-829d-5fd61d2b1ba8
DTSTART:20250826T121500Z
DTEND:20250826T143000Z
LOCATION:Lieu du sport le dimanche 31 avenue du 14 Juillet 76300 Sotteville les Rouen
CATEGORIES:Sportif
STATUS:
DESCRIPTION:<p>Marche sportive et culturelle : Au detour des rues et
 structures portant les noms d'illustres
 sottevillais(es).</p>
 
 <p>Atelier gratuit, inclusif et ouvert a
 toutes et tous sans restriction.</p>
 
 <p>Dans le cadre du dispositif
 municipal sottevillais "Un ete au stade", programme complet : <a
 href="https://sotteville-les-rouen.fr/actualite/souriez-cest-lete-au-stade-de-sotteville/"
 target="_blank" rel="noreferrer
 noopener">https://sotteville-les-rouen.fr/actualite/souriez-cest-lete-au-stade-de-sotteville/</a></p>
 
URL;VALUE=URI:https://www.sospac.fr/evenements/2025/08/26/marche-sportive-et-culturelle-ouverte-a-tous-2243417
END:VEVENT
END:VCALENDAR
