BEGIN:VCALENDAR
VERSION:2.0
PRODID:-//hacksw/handcal//NONSGML v1.0//EN
BEGIN:VEVENT
SUMMARY:Stage gratuit : Creation de marionnettes
UID:9e003214-41e5-44fe-88b9-c92841f6d40c
DTSTART:20250728T123000Z
DTEND:20250729T143000Z
LOCATION:Lieu du sport le dimanche 31 avenue du 14 Juillet 76300 Sotteville les Rouen
CATEGORIES:Festif
STATUS:
DESCRIPTION:<p>Un stage gratuit sur deux jours : Creation de
 marionnettes en recup, puis restitution via un mini
 theatre. </p>
 
 <p>Inscription via un mail (sospac@outlook.fr)
 conseillee mais pas obligatoire</p>
 
 <p>Atelier gratuit, inclusif et
 ouvert a toutes et tous sans restriction.</p>
 
 <p>Dans le cadre du
 dispositif municipal sottevillais "Un ete au stade", programme
 complet : <a
 href="https://sotteville-les-rouen.fr/actualite/souriez-cest-lete-au-stade-de-sotteville/"
 target="_blank" rel="noreferrer
 noopener">https://sotteville-les-rouen.fr/actualite/souriez-cest-lete-au-stade-de-sotteville/</a></p>
 
URL;VALUE=URI:https://www.sospac.fr/evenements/2025/07/28/stage-gratuit-creation-de-marionnettes-2243416
END:VEVENT
END:VCALENDAR
