BEGIN:VCALENDAR
VERSION:2.0
PRODID:-//hacksw/handcal//NONSGML v1.0//EN
BEGIN:VEVENT
SUMMARY:Points du challenge pour les arts et la culture, deuxieme partie de saison
UID:83bb5b23-bb2e-4e46-ad88-d3682da56f24
DTSTART:20250722T220000Z
DTEND:20250723T220000Z
LOCATION:Localisation   
CATEGORIES:Sportif
STATUS:
DESCRIPTION:<p>Ici nous comptabilisons les points du challenge
 interne pour les evenements et temps forts artistiques, culturels et
 sociaux sur la deuxieme moitie de la saison. </p>
 
URL;VALUE=URI:https://www.sospac.fr/evenements/2025/07/23/points-du-challenge-pour-les-arts-et-la-culture-deuxieme-partie-de-saison-2250307
END:VEVENT
END:VCALENDAR
