BEGIN:VCALENDAR
VERSION:2.0
PRODID:-//hacksw/handcal//NONSGML v1.0//EN
BEGIN:VEVENT
SUMMARY:Stage des vacances : athle et multisports
UID:5552d63a-8b3a-4095-b6b2-dd909aaca4aa
DTSTART:20250715T120000Z
DTEND:20250718T160000Z
LOCATION:Lieu du sport le dimanche 31 avenue du 14 Juillet 76300 Sotteville les Rouen
CATEGORIES:Stage
STATUS:
DESCRIPTION:<p>Un stage pour terminer la saison ou pour debuter les
 vacances de maniere sportive et ludique ? C'est bien avec So'SpAC que
 cela se passe.</p>
 
 <p>Notre stage est ouverts a tous les ages des 06
 ans ( enfants, ados, adultes...) et tous les niveaux. Et comme tous
 nos evenements et entrainements, il est inclusif et ouvert aux
 personnes en situation de handicap, aux TSA, TDAH
 etc... </p>
 
 <p> </p>
 
 <p>Le tarif : 5€/jour gouter inclus,
 reglement sur place en especes ou cheque</p>
 
 <p>Les Horaires :
 14h/18h</p>
 
 <p>Le lieu : Stade Jean Adret,
 Sotteville-les-Rouen</p>
 
 <p>Le programme : 14h16h30 athle; 16h30/17h
 pause gouter: 17h/18h multisports et, ou jeux de
 cohesion</p>
 
 <p>Inscription : ci-dessous ou par mail :
 sospac@outlook.fr </p>
 
 <p>Une fiche de renseignements sera a
 remplir le premier jour du stage</p>
 
 <p>Precisez dans l'onglet
 "informations complementaires" le nombre de personnes et les jours de
 presence. Le reglement se fera sur place en cheque ou especes. </p>
 
URL;VALUE=URI:https://www.sospac.fr/evenements/2025/07/15/stage-des-vacances-athle-et-multisports-2240387
END:VEVENT
END:VCALENDAR
