BEGIN:VCALENDAR
VERSION:2.0
PRODID:-//hacksw/handcal//NONSGML v1.0//EN
BEGIN:VEVENT
SUMMARY:Atelier ouvert a tous : Seance de sport adapte/athletisme
UID:fce71d78-6cd0-4aa3-b307-e0ac28874bd9
DTSTART:20250711T123000Z
DTEND:20250711T143000Z
LOCATION:Lieu du sport le dimanche 31 avenue du 14 Juillet 76300 Sotteville les Rouen
CATEGORIES:Sportif
STATUS:
DESCRIPTION:<p>Seance de decouverte de l'athletisme ouverte aux
 personnes en situation de handicap psychique ou mental, aux TSA, TDAH
 etc... </p>
 
 <p>Atelier gratuit, inclusif et ouvert a toutes et tous
 sans restriction.</p>
 
 <p>Dans le cadre du dispositif municipal
 sottevillais "Un ete au stade", programme complet : <a
 href="https://sotteville-les-rouen.fr/actualite/souriez-cest-lete-au-stade-de-sotteville/"
 target="_blank" rel="noreferrer
 noopener">https://sotteville-les-rouen.fr/actualite/souriez-cest-lete-au-stade-de-sotteville/</a></p>
 
URL;VALUE=URI:https://www.sospac.fr/evenements/2025/07/11/atelier-ouvert-a-tous-seance-de-sport-adapteathletisme-2243413
END:VEVENT
END:VCALENDAR
