BEGIN:VCALENDAR
VERSION:2.0
PRODID:-//hacksw/handcal//NONSGML v1.0//EN
BEGIN:VEVENT
SUMMARY:Atelier ouvert a tous : Dessine ta silhouette
UID:e31869cc-58a7-4e0c-99d4-675ff8bdf22b
DTSTART:20250710T123000Z
DTEND:20250710T143000Z
LOCATION:Lieu du sport le dimanche 31 avenue du 14 Juillet 76300 Sotteville les Rouen
CATEGORIES:Festif
STATUS:
DESCRIPTION:<p>Relaxation : Dessine ta silhouette</p>
 
 <p>Dessin
 geant autour de soi, allonge au sol</p>
 
 <p>Atelier gratuit, inclusif
 et ouvert a toutes et tous sans restriction.</p>
 
 <p>Dans le cadre du
 dispositif municipal sottevillais "Un ete au stade", programme
 complet : <a
 href="https://sotteville-les-rouen.fr/actualite/souriez-cest-lete-au-stade-de-sotteville/"
 target="_blank" rel="noreferrer
 noopener">https://sotteville-les-rouen.fr/actualite/souriez-cest-lete-au-stade-de-sotteville/</a></p>
 
URL;VALUE=URI:https://www.sospac.fr/evenements/2025/07/10/atelier-ouvert-a-tous-dessine-ta-silhouette-2243412
END:VEVENT
END:VCALENDAR
