BEGIN:VCALENDAR
VERSION:2.0
PRODID:-//hacksw/handcal//NONSGML v1.0//EN
BEGIN:VEVENT
SUMMARY:Temps de partage et d'ecoute pour parents d'enfants TSA
UID:44caa90b-c4ae-4808-8dec-1f25298ee0db
DTSTART:20250624T164500Z
DTEND:20250624T181500Z
LOCATION:Lieu du mardi pour les arts, la culture et les temps d'echanges 197 Rue President Kennedy 76140 Le Petit-Quevilly
CATEGORIES:Caritatif
STATUS:
DESCRIPTION:<p>Un moment convivial d'echanges, d'ecoute et de
 partage, ouvert a tous les parents d'enfants TSA.</p>
 
 <p>Anime par
 notre intervenante Sylvie Richer, mediatrice pedagogique et
 artistique en relation d'aide, et maman d'un enfant TSA</p>
 
 <p>Ce
 premier temps fort pour les parents d'enfants TSA et evidement
 gratuit et ouvert a toutes et tous.</p>
 
 <p>Le principe : de la
 convivialite, de l'ecoute et du respect</p>
 
 <p>Vous pouvez venir
 directement ou faciliter l'organisation en nous contactant via le
 site  ou notre mail : sospac@outlook.fr</p>
 
 <p> </p>
 
URL;VALUE=URI:https://www.sospac.fr/evenements/2025/06/24/temps-de-partage-et-decoute-pour-parents-denfants-tsa-2231875
END:VEVENT
END:VCALENDAR
