BEGIN:VCALENDAR
VERSION:2.0
PRODID:-//hacksw/handcal//NONSGML v1.0//EN
BEGIN:VEVENT
SUMMARY:Regionaux individuels benjamins
UID:c828a5d6-89fe-4cd7-a4fd-84d9c7df0a66
DTSTART:20250614T090000Z
DTEND:20250614T160000Z
LOCATION:Localisation Stade Robert Bataille, Rue du Stade 27300 Bernay
CATEGORIES:Sportif
STATUS:
DESCRIPTION:<p>Championnats regiaunaux individuels benjamains de la
 zone Normandie Est. </p>
 
 <p>Nous avons deux jeunes athletes
 qualifies suite aux bilans estivaux : </p>
 
 <p>Elyna sur 50m,
 hauteur, poids et javelot</p>
 
 <p>Adrien sur 50m haies, hauteur,
 disque et javelot ou il defendra son titre departemental</p>
 
URL;VALUE=URI:https://www.sospac.fr/evenements/2025/06/14/regionaux-individuels-benjamins-2233654
END:VEVENT
END:VCALENDAR
