BEGIN:VCALENDAR
VERSION:2.0
PRODID:-//hacksw/handcal//NONSGML v1.0//EN
BEGIN:VEVENT
SUMMARY:Meeting du RNA
UID:526a6cb9-e556-43e1-819d-e3fa9fa8f7b6
DTSTART:20250611T160000Z
DTEND:20250611T210000Z
LOCATION:Localisation Petite Bouverie, Allee Pierre de Coubertain 76000 Rouen
CATEGORIES:Sportif
STATUS:
DESCRIPTION:<p>Meetign regional des categories cadets a masters,
 organise par le RNA</p>
 
URL;VALUE=URI:https://www.sospac.fr/evenements/2025/06/11/meeting-du-rna-2217869
END:VEVENT
END:VCALENDAR
