BEGIN:VCALENDAR
VERSION:2.0
PRODID:-//hacksw/handcal//NONSGML v1.0//EN
BEGIN:VEVENT
SUMMARY:Soiree portes ouvertes et bilan de fin de saison
UID:8a342cc7-f23b-4fdf-a768-8cd70c7a5981
DTSTART:20250610T164500Z
DTEND:20250610T181500Z
LOCATION:Lieu du mardi pour les arts, la culture et les temps d'echanges 197 Rue President Kennedy 76140 Le Petit-Quevilly
CATEGORIES:Festif
STATUS:
DESCRIPTION:<p>On se retrouve ce mardi 10 juin 2025 a la fois pour
 faire le bilan de la saison 2024-2025 mais aussi pour presenter
 l'association a celles et ceux qui ne nous connaissent pas
 encore.</p>
 
 <p> </p>
 
 <p>Au programme de cette belle soiree qui
 inaugure notre nouveau creneau du mardi :</p>
 
 <p>- Bilan sportif,
 artistique et culturel de la saison</p>
 
 <p>- Ceremonie des
 recompenses pour les adherents</p>
 
 <p>- Presentation pour celles et
 ceux qui ne nous connaissent pas encore, des differents ateliers que
 nous proposons</p>
 
 <p>- Presentation des nouveautes pour la
 prochaine rentree</p>
 
 <p>- Preinscriptions</p>
 
 <p>-Temps d'echange
 avec les intervenants sportifs, culturels et artistiques.</p>
 
 <p>-
 Decouverte de notre nouveau site internet et des possiblites pour les
 adherents</p>
 
 <p>Le tout en decouvrant les locaux de nos nouveaux
 creneaux artistiques et culturels.</p>
 
URL;VALUE=URI:https://www.sospac.fr/evenements/2025/06/10/soiree-portes-ouvertes-et-bilan-de-fin-de-saison-2228347
END:VEVENT
END:VCALENDAR
