BEGIN:VCALENDAR
VERSION:2.0
PRODID:-//hacksw/handcal//NONSGML v1.0//EN
BEGIN:VEVENT
SUMMARY:Finale departementale des triathlons poussins
UID:917fbc70-ef2c-4b59-91db-e02fb9b1c114
DTSTART:20250608T083000Z
DTEND:20250608T150000Z
LOCATION:Localisation Place Marius virmontois 76300 Notre-Dame-de-Gravenchon
CATEGORIES:Sportif
STATUS:
DESCRIPTION:<p>Dernier temps fort pour les jeunes categories des
 eveils et poussins. L'occasion de rencontrer d'autres clubs et
 d'autres jeunes passionnes autours d'un triathlon (course, saut,
 lancer).</p>
 
URL;VALUE=URI:https://www.sospac.fr/evenements/2025/06/08/finale-departementale-des-triathlons-poussins-2217866
END:VEVENT
END:VCALENDAR
