BEGIN:VCALENDAR
VERSION:2.0
PRODID:-//hacksw/handcal//NONSGML v1.0//EN
BEGIN:VEVENT
SUMMARY:Regionaux epreuves combinees benjamins
UID:a739219b-4de2-48e5-8bac-b8aee3c930ec
DTSTART:20250607T083000Z
DTEND:20250607T163000Z
LOCATION:Localisation Stade Joseph Guillemot, Rue du 19 mars 1962 76360 Barentin
CATEGORIES:Sportif
STATUS:
DESCRIPTION:<p>Regionaux benjamins d'epreuves combinees.</p>
 
 <p>Les
 jeunes benjamin(e)s se retrouvent pour les regionaux ou ils
 s'affrontent sur cinq epreuves.</p>
 
 <p>Nous avons un athlete
 qualifie, Adrien, qui tentera de battre ses records. </p>
 
URL;VALUE=URI:https://www.sospac.fr/evenements/2025/06/07/regionaux-epreuves-combinees-benjamins-2231701
END:VEVENT
END:VCALENDAR
