BEGIN:VCALENDAR
VERSION:2.0
PRODID:-//hacksw/handcal//NONSGML v1.0//EN
BEGIN:VEVENT
SUMMARY:Meeting Adultes CDA276
UID:32c26a28-80c7-445c-94b0-45623912983c
DTSTART:20250531T220000Z
DTEND:20250601T220000Z
LOCATION:Lieu du sport le dimanche 31 avenue du 14 Juillet 76300 Sotteville les Rouen
CATEGORIES:Sportif
STATUS:
DESCRIPTION:<p>Grand meeting organise par le CDA76, le CDA27, le
 Stade Sottevillais 76 et la LNA.</p>
 
 <p>Athletes des categories
 cadets a masters, avec une premiere journee consacree aux longues
 distances et un dimanche fait de sprints, sauts et lacners.</p>
 
URL;VALUE=URI:https://www.sospac.fr/evenements/2025/06/01/meeting-adultes-cda276-2217865
END:VEVENT
END:VCALENDAR
