BEGIN:VCALENDAR
VERSION:2.0
PRODID:-//hacksw/handcal//NONSGML v1.0//EN
BEGIN:VEVENT
SUMMARY:Kids Athle Eveils/Poussins
UID:8881c958-0d7d-4c7a-9feb-b65b13464303
DTSTART:20250530T220000Z
DTEND:20250531T220000Z
LOCATION:Localisation Petite Bouverie, Allee Pierre de Coubertain 76000 Rouen
CATEGORIES:Sportif
STATUS:
DESCRIPTION:<p>RV entre 13h30 et 14h. Fin : 16h</p>
 
 <p>Seconde etape
 estivale du Kids Athle, un moment de fete et de sport pour les
 enfants des categories eveils et poussins.</p>
 
 <p>Nous esperons
 notre groupe de poussines au complet pour cette belle journee
 partagee avec les clubs du secteur sud
 : </p>
 
 <div>ASPTT</div>
 
 <div>CAQC76</div>
 
 <div>OISSEL</div>
 
 <div>RCCCA<br
 />
 MONTIGNY</div>
 
 <div>Et donc
 So'SpAC</div>
 
 <div> </div>
 
 <div>Les epreuves :</div>
 
 <div>
 <div>-
 50m plat</div>
 
 <div>- 30m haies </div>
 
 <div>- penta</div>
 
 <div>-
 lancer de medecine Ball a genoux</div>
 </div>
 
URL;VALUE=URI:https://www.sospac.fr/evenements/2025/05/31/kids-athle-eveilspoussins-2217859
END:VEVENT
END:VCALENDAR
