BEGIN:VCALENDAR
VERSION:2.0
PRODID:-//hacksw/handcal//NONSGML v1.0//EN
BEGIN:VEVENT
SUMMARY:Championnats departementaux individuels benjamins/minimes
UID:5764a837-1ec2-48b2-b851-74eb7aa44f44
DTSTART:20250529T070000Z
DTEND:20250529T150000Z
LOCATION:Localisation Petite Bouverie, Allee Pierre de Coubertain 76000 Rouen
CATEGORIES:Sportif
STATUS:
DESCRIPTION:<p><font><font><font><font><b>Championnats departementaux
 individuels benjamins/minimes, pour nos jeunes, l'idee est qu'ils
 realisent un triathlon compose d'une course, d'un saut et d'un
 lancer, et surtout qu'ils prennent du plaisir pour ces championnats
 presque a domicile ! </b></font></font></font></font></p>
 
URL;VALUE=URI:https://www.sospac.fr/evenements/2025/05/29/championnats-departementaux-individuels-benjaminsminimes-2217862
END:VEVENT
END:VCALENDAR
