BEGIN:VCALENDAR
VERSION:2.0
PRODID:-//hacksw/handcal//NONSGML v1.0//EN
BEGIN:VEVENT
SUMMARY:Meeting de Maromme
UID:d3183870-c93b-458f-8643-fe16f2f2248d
DTSTART:20250528T160000Z
DTEND:20250528T190000Z
LOCATION:Localisation Rue Ernest Danet 76150 Maromme
CATEGORIES:Sportif
STATUS:
DESCRIPTION:<p>Meeting organise par l'EMSAM pour les athletes de
 cadets a masters</p>
 
URL;VALUE=URI:https://www.sospac.fr/evenements/2025/05/28/meeting-de-maromme-2217861
END:VEVENT
END:VCALENDAR
