BEGIN:VCALENDAR
VERSION:2.0
PRODID:-//hacksw/handcal//NONSGML v1.0//EN
BEGIN:VEVENT
SUMMARY:Les foulees de Bonsecours 2025
UID:63866656-fa51-4923-abc5-bb2f69335a1a
DTSTART:20250427T070000Z
DTEND:20250427T150000Z
LOCATION:Localisation Halle des Sports, Rue du Bois Bagneres 76240 Bonsecours
CATEGORIES:Sportif
STATUS:
DESCRIPTION:<p><span class="x193iq5w xeuugli x13faqbe x1vvkbs
 x1xmvt09 x1lliihq x1s928wv xhkezso x1gmr53x x1cpjm7i x1fgarty
 x1943h6x xudqn12 x3x7a5m x6prxxf xvq8zen xo1l8bm xzsf02u">Infos pour
 nos adherents qui souhaitent participer
 :</span></p>
 
 <p> </p>
 
 <p><span class="x193iq5w xeuugli x13faqbe
 x1vvkbs x1xmvt09 x1lliihq x1s928wv xhkezso x1gmr53x x1cpjm7i x1fgarty
 x1943h6x xudqn12 x3x7a5m x6prxxf xvq8zen xo1l8bm xzsf02u">Enfants et
 adultes, venez nombreux participer, en individuel ou en famille a
 cette fete sportive et conviviale.<br class="html-br" />
 <br
 class="html-br" />
 Les parcours sont adaptes en fonction des ages :
 parcours dans differents quartiers de la commune pour les adultes le
 matin (course a pied et marche nordique) et autour de la halle des
 sports pour les enfants l’apres-midi.<br class="html-br"
 />
 Sportifs en herbe ou confirmes, chaussez vos baskets
 !</span></p>
 
 <p> </p>
 
 <p><span class="x193iq5w xeuugli x13faqbe
 x1vvkbs x1xmvt09 x1lliihq x1s928wv xhkezso x1gmr53x x1cpjm7i x1fgarty
 x1943h6x xudqn12 x3x7a5m x6prxxf xvq8zen xo1l8bm xzsf02u">Vous pouvez
 vous inscrire directement, gardez bien vos recus pour les
 inscriptions payantes, en fin d'annee le club pourra les rembourser
 grace a une subvention exceptionnelle de la FFA pour le running au
 club. </span></p>
 
 <p><span class="x193iq5w xeuugli x13faqbe x1vvkbs
 x1xmvt09 x1lliihq x1s928wv xhkezso x1gmr53x x1cpjm7i x1fgarty
 x1943h6x xudqn12 x3x7a5m x6prxxf xvq8zen xo1l8bm
 xzsf02u">Inscriptions : </span><a
 href="https://in.njuko.com/les-foulees-de-bonsecours-2025?currentPage=select-competition"
 target="_blank" rel="noreferrer
 noopener">https://in.njuko.com/les-foulees-de-bonsecours-2025</a> ou
 contactez-nous</p>
 
 <p> </p>
 
 <p>Ouvert meme aux non-licencies, donc
 invitez vos proches et votre famile</p>
 
 <p><span class="x193iq5w
 xeuugli x13faqbe x1vvkbs x1xmvt09 x1lliihq x1s928wv xhkezso x1gmr53x
 x1cpjm7i x1fgarty x1943h6x xudqn12 x3x7a5m x6prxxf xvq8zen xo1l8bm
 xzsf02u">Gratuits des eveils aux cadets, 8€ pour les juniors et
 +<br class="html-br" />
 Dimanche 27 avril - Des 9h30<br
 class="html-br" />
 Halle de Sports, rue du Bois Bagneres.</span></p>
 
URL;VALUE=URI:https://www.sospac.fr/evenements/2025/04/27/les-foulees-de-bonsecours-2025-2216206
END:VEVENT
END:VCALENDAR
