BEGIN:VCALENDAR
VERSION:2.0
PRODID:-//hacksw/handcal//NONSGML v1.0//EN
BEGIN:VEVENT
SUMMARY:Points du challenge pour les arts et la culture a mi-saison
UID:e019b437-ff14-4042-ab18-f39967e70855
DTSTART:20250420T220000Z
DTEND:20250421T220000Z
LOCATION:Lieu du mercredi, sport et arts 43 rue Eugene Tilloy 76300 Sotteville les Rouen
CATEGORIES:Sportif
STATUS:
DESCRIPTION:<p>Les arts aussi rapportent des points pour le challenge
 interne de participation !</p>
 
 <p>Des points sont attribues pour la
 participation aux ateliers qui se terminent par une exposition, pour
 le montage de celles-ci, pour les evenements ponctuels tels que les
 interventions en etablissements scolaires ou les temps forts
 municipaux.</p>
 
 <p> </p>
 
 <p>Ce classement est accessible
 uniquement aux licencies et au parents des adherents mineurs.</p>
 
URL;VALUE=URI:https://www.sospac.fr/evenements/2025/04/21/points-du-challenge-pour-les-arts-et-la-culture-a-mi-saison-2217281
END:VEVENT
END:VCALENDAR
