BEGIN:VCALENDAR
VERSION:2.0
PRODID:-//hacksw/handcal//NONSGML v1.0//EN
BEGIN:VEVENT
SUMMARY:Departementaux d'epreuves combinees benjamins
UID:070b34a0-a62a-465a-8f1b-21c41f0d926c
DTSTART:20250412T220000Z
DTEND:20250413T220000Z
LOCATION:Localisation rue du 19 mars 1962 76360 Barentin
CATEGORIES:Sportif
STATUS:
URL;VALUE=URI:https://www.sospac.fr/evenements/2025/04/13/departementaux-depreuves-combinees-benjamins-2215193
END:VEVENT
END:VCALENDAR
