BEGIN:VCALENDAR
VERSION:2.0
PRODID:-//hacksw/handcal//NONSGML v1.0//EN
BEGIN:VEVENT
SUMMARY:Meeting du COB
UID:7602660c-7857-4dce-aa2d-cdedd03952e8
DTSTART:20250328T230000Z
DTEND:20250329T230000Z
LOCATION:Localisation Stade Henri Franchet, Chemin de Halage 76260 Eu
CATEGORIES:Sportif
STATUS:
DESCRIPTION:<p>Premier meeting en exterieur de la saison en
 Normandie, nous ne comptions pas rater l'occasion, et ce d'autant
 plus que le club du COB est a bien des egards proche de notre
 philosophie : inclusion, plaisir, pratique artistique etc... </p>
 
URL;VALUE=URI:https://www.sospac.fr/evenements/2025/03/29/meeting-du-cob-2217182
END:VEVENT
END:VCALENDAR
