BEGIN:VCALENDAR
VERSION:2.0
PRODID:-//hacksw/handcal//NONSGML v1.0//EN
BEGIN:VEVENT
SUMMARY:Les boucles du pays elbeuvien
UID:cf6cc59a-e082-4e60-bf34-7b960e22a564
DTSTART:20250322T230000Z
DTEND:20250323T230000Z
LOCATION:Localisation Mairie d'Elbeuf 76500 Elbeuf
CATEGORIES:Sportif
STATUS:
DESCRIPTION:<div>Les Boucles du Pays Elbeuvien reviennent le dimanche
 23 mars !</div>
 
 <div>Au programme : un 5 km (course et marche) en
 soutien a la Ligue contre le cancer, ainsi qu’un 10 km et un
 semi-marathon, Les epreuves auront lieu de 9h a 14h et passeront par
 Saint-Pierre-les-Elbeuf.</div>
 
URL;VALUE=URI:https://www.sospac.fr/evenements/2025/03/23/les-boucles-du-pays-elbeuvien-2217277
END:VEVENT
END:VCALENDAR
