BEGIN:VCALENDAR
VERSION:2.0
PRODID:-//hacksw/handcal//NONSGML v1.0//EN
BEGIN:VEVENT
SUMMARY:Trail Robert le Diable 
UID:188e6067-768d-42fc-9a5f-c87ec5b1b242
DTSTART:20250315T230000Z
DTEND:20250316T230000Z
LOCATION:Localisation Stade Municipal 76530 Moulineaux
CATEGORIES:Sportif
STATUS:
DESCRIPTION:<p>"Partez a l’assaut du <strong>Trail de Robert le
 Diable</strong> le dimanche 16 mars !<br />
 Douves, montees qui
 piquent, et vues a couper le souffle : un parcours diaboliquement fun
 autour du legendaire chateau de Moulineaux."</p>
 
 <p>Une presentation
 qui donne envie !</p>
 
URL;VALUE=URI:https://www.sospac.fr/evenements/2025/03/16/trail-robert-le-diable-2217181
END:VEVENT
END:VCALENDAR
