BEGIN:VCALENDAR
VERSION:2.0
PRODID:-//hacksw/handcal//NONSGML v1.0//EN
BEGIN:VEVENT
SUMMARY:Regionaux benjamins en salle 2025
UID:6b27341d-24a9-4d5a-a41f-ac6a1f345398
DTSTART:20250314T230000Z
DTEND:20250315T230000Z
LOCATION:Localisation Stade Jesse Owens, Parc des Sports, 2 Chaussee de Ritterhude 27100 Val de Reuil
CATEGORIES:Sportif
STATUS:
DESCRIPTION:<p>Des regionaux en salle, et encore une fois une remiere
 pour notre jeune club, avec une qualifiee : Elyna.</p>
 
URL;VALUE=URI:https://www.sospac.fr/evenements/2025/03/15/regionaux-benjamins-en-salle-2025-2217170
END:VEVENT
END:VCALENDAR
