BEGIN:VCALENDAR
VERSION:2.0
PRODID:-//hacksw/handcal//NONSGML v1.0//EN
BEGIN:VEVENT
SUMMARY:Relais du sport feminin
UID:2af4aeb8-f845-4d9d-a70c-2958ba5b82c5
DTSTART:20250308T230000Z
DTEND:20250309T230000Z
LOCATION:Lieu du sport le dimanche 31 avenue du 14 Juillet 76300 Sotteville les Rouen
CATEGORIES:Sportif
STATUS:
DESCRIPTION:<p>Voila un evenement que nous ne souhaitions pas rater.
 Parfaitement organise par le Stade Sottevillais 76 et la ville de
 Sotteville-les-Rouen, le principe est simple : courir ou marcher, en
 equipe et en relais pendant une heure sur la boucle 606 du stade Jean
 Adret, dans le cadre de la journee internationale des droits des
 femmes et de la semaine du sport feminin.</p>
 
URL;VALUE=URI:https://www.sospac.fr/evenements/2025/03/09/relais-du-sport-feminin-2217140
END:VEVENT
END:VCALENDAR
