BEGIN:VCALENDAR
VERSION:2.0
PRODID:-//hacksw/handcal//NONSGML v1.0//EN
BEGIN:VEVENT
SUMMARY:Epreuves ouvertes benjamins et minimes de Rouen
UID:80cb20b7-060f-402b-9da9-ec376e39d3f1
DTSTART:20250121T230000Z
DTEND:20250122T230000Z
LOCATION:Localisation Centre sportif Saint-Exupery, 24 boulevard Gambetta 76000 Rouen
CATEGORIES:Sportif
STATUS:
DESCRIPTION:<p>Une belle journee en salle sur une date etonnante mais
 finalement ideale pour les jeunes, un mercredi apres-midi.</p>
 
 <p>La
 salle Saint-Exupery de Rouen accueillait en effet un meeting dedie
 aux jeunes en preambule d'une soiree de perche.</p>
 
URL;VALUE=URI:https://www.sospac.fr/evenements/2025/01/22/epreuves-ouvertes-benjamins-et-minimes-de-rouen-2216970
END:VEVENT
END:VCALENDAR
